BEGIN:VCALENDAR
VERSION:2.0
PRODID:-//A Razão - ECPv4.7.0.1//NONSGML v1.0//EN
CALSCALE:GREGORIAN
METHOD:PUBLISH
X-WR-CALNAME:A Razão
X-ORIGINAL-URL:https://arazao.org
X-WR-CALDESC:Eventos para A Razão
BEGIN:VEVENT
DTSTART;VALUE=DATE:20250523
DTEND;VALUE=DATE:20250524
DTSTAMP:20260421T171140
CREATED:20250430T152446Z
LAST-MODIFIED:20250430T152446Z
UID:17097-1747958400-1748044799@arazao.org
SUMMARY:105º aniversário de fundação da Filial Varginha
DESCRIPTION:Você já gastou o seu acesso gratuito do mês. Para continuar por dentro do portal A Razão\, por favor faça o login ou\, se ainda não é um membro\, junte-se a nós! Acesse também nosso conteúdo gratuito:- Leituras do mês- Aconselhamentos
URL:https://arazao.org/eventos/105o-aniversario-de-fundacao-da-filial-varginha/
CATEGORIES:Aniversário
END:VEVENT
END:VCALENDAR