BEGIN:VCALENDAR
VERSION:2.0
PRODID:-//A Razão - ECPv4.7.0.1//NONSGML v1.0//EN
CALSCALE:GREGORIAN
METHOD:PUBLISH
X-WR-CALNAME:A Razão
X-ORIGINAL-URL:https://arazao.org
X-WR-CALDESC:Eventos para A Razão
BEGIN:VEVENT
DTSTART;VALUE=DATE:20250904
DTEND;VALUE=DATE:20250905
DTSTAMP:20260420T233552
CREATED:20250904T125238Z
LAST-MODIFIED:20250904T125238Z
UID:17628-1756944000-1757030399@arazao.org
SUMMARY:10º aniversário de fundação do Correspondente Pantin
DESCRIPTION:Você já gastou o seu acesso gratuito do mês. Para continuar por dentro do portal A Razão\, por favor faça o login ou\, se ainda não é um membro\, junte-se a nós! Acesse também nosso conteúdo gratuito:- Leituras do mês- Aconselhamentos
URL:https://arazao.org/eventos/10o-aniversario-de-fundacao-do-correspondente-pantin/
CATEGORIES:Aniversário
END:VEVENT
END:VCALENDAR