BEGIN:VCALENDAR
VERSION:2.0
PRODID:-//A Razão - ECPv4.7.0.1//NONSGML v1.0//EN
CALSCALE:GREGORIAN
METHOD:PUBLISH
X-WR-CALNAME:A Razão
X-ORIGINAL-URL:https://arazao.org
X-WR-CALDESC:Eventos para A Razão
BEGIN:VEVENT
DTSTART;VALUE=DATE:20250319
DTEND;VALUE=DATE:20250320
DTSTAMP:20260421T025129
CREATED:20250225T142724Z
LAST-MODIFIED:20250225T142724Z
UID:16829-1742342400-1742428799@arazao.org
SUMMARY:14º aniversário de fundação da Filial Rotterdã West
DESCRIPTION:Você já gastou o seu acesso gratuito do mês. Para continuar por dentro do portal A Razão\, por favor faça o login ou\, se ainda não é um membro\, junte-se a nós! Acesse também nosso conteúdo gratuito:- Leituras do mês- Aconselhamentos
URL:https://arazao.org/eventos/14o-aniversario-de-fundacao-da-filial-rotterda-west/
CATEGORIES:Aniversário
END:VEVENT
END:VCALENDAR