BEGIN:VCALENDAR
VERSION:2.0
PRODID:-//A Razão - ECPv4.7.0.1//NONSGML v1.0//EN
CALSCALE:GREGORIAN
METHOD:PUBLISH
X-WR-CALNAME:A Razão
X-ORIGINAL-URL:https://arazao.org
X-WR-CALDESC:Eventos para A Razão
BEGIN:VEVENT
DTSTART;TZID=America/Sao_Paulo:20190916T195000
DTEND;TZID=America/Sao_Paulo:20190916T213000
DTSTAMP:20260419T235551
CREATED:20190809T134916Z
LAST-MODIFIED:20190813T183532Z
UID:7994-1568663400-1568669400@arazao.org
SUMMARY:16 anos de fundação da Filial Ipiranga - SP
DESCRIPTION:A Filial Ipiranga estará comemorando 16 anos da fundação\, agora no dia 16/09\, segunda feira às 19h50. \nAguardamos vocês aqui\, para comemorarmos juntos! \nRua Manifesto\, 1653\, no histórico bairro do Ipiranga\, São Paulo \n			\n							\n\n			 			\n\n				\n\n				   \n				   \n				\n				\n						\n\n				\n\n				   \n				   \n				\n				\n						\n\n				\n\n				   \n				   \n				\n				\n						\n\n				\n\n				   \n				   \n				\n				\n						\n\n				\n\n				   \n				   \n				\n				\n						\n\n				\n\n				   \n				   \n				\n				\n			\n							\n\n				\n					\n				\n			\n			\n							\n					\n\n						\n						\n					\n								\n					\n\n						\n						\n					\n								\n					\n\n						\n						\n					\n								\n					\n\n						\n						\n					\n								\n					\n\n						\n						\n					\n								\n					\n\n						\n						\n					\n								\n					\n\n						\n						\n					\n								\n					\n\n						\n						\n					\n								\n					\n\n						\n						\n					\n								\n					\n\n						\n						\n					\n								\n					\n\n						\n						\n					\n								\n					\n\n						\n						\n					\n								\n					\n\n						\n						\n					\n								\n					\n\n						\n						\n					\n								\n					\n\n						\n						\n					\n								\n					\n\n						\n						\n					\n								\n					\n\n						\n						\n					\n								\n					\n\n						\n						\n					\n								\n					\n\n						\n						\n					\n				\n			\n			
URL:https://arazao.org/eventos/16-anos-de-fundacao-da-filial-ipiranga-sp/
LOCATION:Filial Ipiranga\, Rua Manifesto\, 1653\, São Paulo\, São Paulo\, 04209-002\, Brasil
CATEGORIES:Reunião pública
ATTACH;FMTTYPE=image/jpeg:https://arazao.org/novo/wp-content/uploads/2019/08/image1-1.jpeg
ORGANIZER;CN="Racionalismo%20Crist%C3%A3o":MAILTO:faleconosco@racionalismocristao.org
END:VEVENT
END:VCALENDAR