BEGIN:VCALENDAR
VERSION:2.0
PRODID:-//A Razão - ECPv4.7.0.1//NONSGML v1.0//EN
CALSCALE:GREGORIAN
METHOD:PUBLISH
X-WR-CALNAME:A Razão
X-ORIGINAL-URL:https://arazao.org
X-WR-CALDESC:Eventos para A Razão
BEGIN:VEVENT
DTSTART;VALUE=DATE:20251001
DTEND;VALUE=DATE:20251002
DTSTAMP:20260421T232543
CREATED:20251003T141035Z
LAST-MODIFIED:20251003T141035Z
UID:17796-1759276800-1759363199@arazao.org
SUMMARY:20º aniversário de fundação do Filial Saturnino Braga
DESCRIPTION:Você já gastou o seu acesso gratuito do mês. Para continuar por dentro do portal A Razão\, por favor faça o login ou\, se ainda não é um membro\, junte-se a nós! Acesse também nosso conteúdo gratuito:- Leituras do mês- Aconselhamentos
URL:https://arazao.org/eventos/20o-aniversario-de-fundacao-do-filial-saturnino-braga/
CATEGORIES:Aniversário
END:VEVENT
END:VCALENDAR