BEGIN:VCALENDAR
VERSION:2.0
PRODID:-//A Razão - ECPv4.7.0.1//NONSGML v1.0//EN
CALSCALE:GREGORIAN
METHOD:PUBLISH
X-WR-CALNAME:A Razão
X-ORIGINAL-URL:https://arazao.org
X-WR-CALDESC:Eventos para A Razão
BEGIN:VEVENT
DTSTART;VALUE=DATE:20250414
DTEND;VALUE=DATE:20250415
DTSTAMP:20260421T170717
CREATED:20250401T173113Z
LAST-MODIFIED:20250401T173113Z
UID:16964-1744588800-1744675199@arazao.org
SUMMARY:28º aniversário de fundação da Filial Itaquaquecetuba
DESCRIPTION:Você já gastou o seu acesso gratuito do mês. Para continuar por dentro do portal A Razão\, por favor faça o login ou\, se ainda não é um membro\, junte-se a nós! Acesse também nosso conteúdo gratuito:- Leituras do mês- Aconselhamentos
URL:https://arazao.org/eventos/28o-aniversario-de-fundacao-da-filial-itaquaquecetuba/
CATEGORIES:Aniversário
END:VEVENT
END:VCALENDAR