BEGIN:VCALENDAR
VERSION:2.0
PRODID:-//A Razão - ECPv4.7.0.1//NONSGML v1.0//EN
CALSCALE:GREGORIAN
METHOD:PUBLISH
X-WR-CALNAME:A Razão
X-ORIGINAL-URL:https://arazao.org
X-WR-CALDESC:Eventos para A Razão
BEGIN:VEVENT
DTSTART;VALUE=DATE:20241231
DTEND;VALUE=DATE:20250101
DTSTAMP:20260419T143232
CREATED:20241127T153631Z
LAST-MODIFIED:20241127T153631Z
UID:16440-1735603200-1735689599@arazao.org
SUMMARY:32º aniversário de fundação da Correspondente Ribeira Prata
DESCRIPTION:Você já gastou o seu acesso gratuito do mês. Para continuar por dentro do portal A Razão\, por favor faça o login ou\, se ainda não é um membro\, junte-se a nós! Acesse também nosso conteúdo gratuito:- Leituras do mês- Aconselhamentos
URL:https://arazao.org/eventos/32o-aniversario-de-fundacao-da-correspondente-ribeira-prata/
CATEGORIES:Aniversário
END:VEVENT
END:VCALENDAR