BEGIN:VCALENDAR
VERSION:2.0
PRODID:-//A Razão - ECPv4.7.0.1//NONSGML v1.0//EN
CALSCALE:GREGORIAN
METHOD:PUBLISH
X-WR-CALNAME:A Razão
X-ORIGINAL-URL:https://arazao.org
X-WR-CALDESC:Eventos para A Razão
BEGIN:VEVENT
DTSTART;VALUE=DATE:20250303
DTEND;VALUE=DATE:20250304
DTSTAMP:20260420T205728
CREATED:20250225T142355Z
LAST-MODIFIED:20250225T142355Z
UID:16821-1740960000-1741046399@arazao.org
SUMMARY:39º aniversário de fundação da Filial Madeiralzinho
DESCRIPTION:Você já gastou o seu acesso gratuito do mês. Para continuar por dentro do portal A Razão\, por favor faça o login ou\, se ainda não é um membro\, junte-se a nós! Acesse também nosso conteúdo gratuito:- Leituras do mês- Aconselhamentos
URL:https://arazao.org/eventos/39o-aniversario-de-fundacao-da-filial-madeiralzinho/
CATEGORIES:Aniversário
END:VEVENT
END:VCALENDAR