BEGIN:VCALENDAR
VERSION:2.0
PRODID:-//A Razão - ECPv4.7.0.1//NONSGML v1.0//EN
CALSCALE:GREGORIAN
METHOD:PUBLISH
X-WR-CALNAME:A Razão
X-ORIGINAL-URL:https://arazao.org
X-WR-CALDESC:Eventos para A Razão
BEGIN:VEVENT
DTSTART;VALUE=DATE:20250713
DTEND;VALUE=DATE:20250714
DTSTAMP:20260420T105628
CREATED:20250702T190111Z
LAST-MODIFIED:20250702T190111Z
UID:17393-1752364800-1752451199@arazao.org
SUMMARY:40º aniversário de fundação da Filial Viseu
DESCRIPTION:Você já gastou o seu acesso gratuito do mês. Para continuar por dentro do portal A Razão\, por favor faça o login ou\, se ainda não é um membro\, junte-se a nós! Acesse também nosso conteúdo gratuito:- Leituras do mês- Aconselhamentos
URL:https://arazao.org/eventos/40o-aniversario-de-fundacao-da-filial-viseu/
CATEGORIES:Aniversário
END:VEVENT
END:VCALENDAR