BEGIN:VCALENDAR
VERSION:2.0
PRODID:-//A Razão - ECPv4.7.0.1//NONSGML v1.0//EN
CALSCALE:GREGORIAN
METHOD:PUBLISH
X-WR-CALNAME:A Razão
X-ORIGINAL-URL:https://arazao.org
X-WR-CALDESC:Eventos para A Razão
BEGIN:VEVENT
DTSTART;VALUE=DATE:20250423
DTEND;VALUE=DATE:20250424
DTSTAMP:20260422T012259
CREATED:20250401T173710Z
LAST-MODIFIED:20250401T173710Z
UID:16976-1745366400-1745452799@arazao.org
SUMMARY:42º aniversário de fundação da Filial Pawtucket
DESCRIPTION:Você já gastou o seu acesso gratuito do mês. Para continuar por dentro do portal A Razão\, por favor faça o login ou\, se ainda não é um membro\, junte-se a nós! Acesse também nosso conteúdo gratuito:- Leituras do mês- Aconselhamentos
URL:https://arazao.org/eventos/42o-aniversario-de-fundacao-da-filial-pawtucket/
CATEGORIES:Aniversário
END:VEVENT
END:VCALENDAR