BEGIN:VCALENDAR
VERSION:2.0
PRODID:-//A Razão - ECPv4.7.0.1//NONSGML v1.0//EN
CALSCALE:GREGORIAN
METHOD:PUBLISH
X-WR-CALNAME:A Razão
X-ORIGINAL-URL:https://arazao.org
X-WR-CALDESC:Eventos para A Razão
BEGIN:VEVENT
DTSTART;VALUE=DATE:20260423
DTEND;VALUE=DATE:20260424
DTSTAMP:20260421T105933
CREATED:20260402T194152Z
LAST-MODIFIED:20260402T194152Z
UID:18729-1776902400-1776988799@arazao.org
SUMMARY:43º aniversário de fundação da Filial Pawtucket
DESCRIPTION:Você já gastou o seu acesso gratuito do mês. Para continuar por dentro do portal A Razão\, por favor faça o login ou\, se ainda não é um membro\, junte-se a nós! Acesse também nosso conteúdo gratuito:- Leituras do mês- Aconselhamentos
URL:https://arazao.org/eventos/43o-aniversario-de-fundacao-da-filial-pawtucket/
CATEGORIES:Aniversário
END:VEVENT
END:VCALENDAR