BEGIN:VCALENDAR
VERSION:2.0
PRODID:-//A Razão - ECPv4.7.0.1//NONSGML v1.0//EN
CALSCALE:GREGORIAN
METHOD:PUBLISH
X-WR-CALNAME:A Razão
X-ORIGINAL-URL:https://arazao.org
X-WR-CALDESC:Eventos para A Razão
BEGIN:VEVENT
DTSTART;TZID=America/Sao_Paulo:20190812T080000
DTEND;TZID=America/Sao_Paulo:20190812T220000
DTSTAMP:20260421T081305
CREATED:20190627T181829Z
LAST-MODIFIED:20190729T155341Z
UID:7816-1565596800-1565647200@arazao.org
SUMMARY:45º aniversário de inauguração da Filial Monte Sossego do RC
DESCRIPTION:Você já gastou o seu acesso gratuito do mês. Para continuar por dentro do portal A Razão\, por favor faça o login ou\, se ainda não é um membro\, junte-se a nós! Acesse também nosso conteúdo gratuito:- Leituras do mês- Aconselhamentos
URL:https://arazao.org/eventos/45o-aniversario-de-inauguracao-da-filial-monte-sossego-do-rc/
LOCATION:Filial Monte Sossego\, Ilha de São Vicente\, Cabo Verde
CATEGORIES:Almoço,Festa,Reunião pública
ATTACH;FMTTYPE=image/jpeg:https://arazao.org/novo/wp-content/uploads/2019/06/RC_FPNT_Sossego_20190729.jpg
ORGANIZER;CN="Racionalismo%20Crist%C3%A3o":MAILTO:faleconosco@racionalismocristao.org
END:VEVENT
END:VCALENDAR