BEGIN:VCALENDAR
VERSION:2.0
PRODID:-//A Razão - ECPv4.7.0.1//NONSGML v1.0//EN
CALSCALE:GREGORIAN
METHOD:PUBLISH
X-WR-CALNAME:A Razão
X-ORIGINAL-URL:https://arazao.org
X-WR-CALDESC:Eventos para A Razão
BEGIN:VEVENT
DTSTART;VALUE=DATE:20240409
DTEND;VALUE=DATE:20240410
DTSTAMP:20260421T110926
CREATED:20240326T190609Z
LAST-MODIFIED:20240326T192002Z
UID:15325-1712620800-1712707199@arazao.org
SUMMARY:46º aniversário de fundação da Filial Caité
DESCRIPTION:A Filial Caité\, em Minas Gerais\, está comemorando seu 46º aniversário de fundação. \n			\n							\n\n			 			\n\n				\n\n				   \n				   \n				\n				\n						\n\n				\n\n				   \n				   \n				\n				\n						\n\n				\n\n				   \n				   \n				\n				\n						\n\n				\n\n				   \n				   \n				\n				\n						\n\n				\n\n				   \n				   \n				\n				\n						\n\n				\n\n				   \n				   \n				\n				\n			\n							\n\n				\n					\n				\n			\n			\n							\n					\n\n						\n						\n					\n								\n					\n\n						\n						\n					\n								\n					\n\n						\n						\n					\n								\n					\n\n						\n						\n					\n								\n					\n\n						\n						\n					\n								\n					\n\n						\n						\n					\n								\n					\n\n						\n						\n					\n								\n					\n\n						\n						\n					\n								\n					\n\n						\n						\n					\n								\n					\n\n						\n						\n					\n								\n					\n\n						\n						\n					\n								\n					\n\n						\n						\n					\n								\n					\n\n						\n						\n					\n								\n					\n\n						\n						\n					\n								\n					\n\n						\n						\n					\n								\n					\n\n						\n						\n					\n								\n					\n\n						\n						\n					\n								\n					\n\n						\n						\n					\n								\n					\n\n						\n						\n					\n				\n			\n			
URL:https://arazao.org/eventos/46o-aniversario-de-fundacao-da-filial-caite-mg/
END:VEVENT
END:VCALENDAR