BEGIN:VCALENDAR
VERSION:2.0
PRODID:-//A Razão - ECPv4.7.0.1//NONSGML v1.0//EN
CALSCALE:GREGORIAN
METHOD:PUBLISH
X-WR-CALNAME:A Razão
X-ORIGINAL-URL:https://arazao.org
X-WR-CALDESC:Eventos para A Razão
BEGIN:VEVENT
DTSTART;VALUE=DATE:20250626
DTEND;VALUE=DATE:20250627
DTSTAMP:20260420T190729
CREATED:20250527T143039Z
LAST-MODIFIED:20250527T143039Z
UID:17255-1750896000-1750982399@arazao.org
SUMMARY:50º aniversário de fundação da Filial Ilha da Boa Vista
DESCRIPTION:Você já gastou o seu acesso gratuito do mês. Para continuar por dentro do portal A Razão\, por favor faça o login ou\, se ainda não é um membro\, junte-se a nós! Acesse também nosso conteúdo gratuito:- Leituras do mês- Aconselhamentos
URL:https://arazao.org/eventos/50o-aniversario-de-fundacao-da-filial-ilha-da-boa-vista/
CATEGORIES:Aniversário
END:VEVENT
END:VCALENDAR