BEGIN:VCALENDAR
VERSION:2.0
PRODID:-//A Razão - ECPv4.7.0.1//NONSGML v1.0//EN
CALSCALE:GREGORIAN
METHOD:PUBLISH
X-WR-CALNAME:A Razão
X-ORIGINAL-URL:https://arazao.org
X-WR-CALDESC:Eventos para A Razão
BEGIN:VEVENT
DTSTART;VALUE=DATE:20241127
DTEND;VALUE=DATE:20241128
DTSTAMP:20260420T144718
CREATED:20241101T135736Z
LAST-MODIFIED:20241101T135736Z
UID:16348-1732665600-1732751999@arazao.org
SUMMARY:52º aniversário de fundação da Filial Sertãozinho
DESCRIPTION:Você já gastou o seu acesso gratuito do mês. Para continuar por dentro do portal A Razão\, por favor faça o login ou\, se ainda não é um membro\, junte-se a nós! Acesse também nosso conteúdo gratuito:- Leituras do mês- Aconselhamentos
URL:https://arazao.org/eventos/52o-aniversario-de-fundacao-da-filial-sertaozinho/
CATEGORIES:Aniversário
END:VEVENT
END:VCALENDAR