BEGIN:VCALENDAR
VERSION:2.0
PRODID:-//A Razão - ECPv4.7.0.1//NONSGML v1.0//EN
CALSCALE:GREGORIAN
METHOD:PUBLISH
X-WR-CALNAME:A Razão
X-ORIGINAL-URL:https://arazao.org
X-WR-CALDESC:Eventos para A Razão
BEGIN:VEVENT
DTSTART;VALUE=DATE:20230225
DTEND;VALUE=DATE:20230226
DTSTAMP:20260421T152525
CREATED:20230201T200505Z
LAST-MODIFIED:20230201T200505Z
UID:12930-1677283200-1677369599@arazao.org
SUMMARY:63º aniversário de fundação da Filial Cantagalo
DESCRIPTION:A Filial Cantagalo\, no Rio de Janeiro\, está comemorando seu 63º aniversário de fundação. \n			\n							\n\n			 			\n\n				\n\n				   \n				   \n				\n				\n						\n\n				\n\n				   \n				   \n				\n				\n						\n\n				\n\n				   \n				   \n				\n				\n						\n\n				\n\n				   \n				   \n				\n				\n						\n\n				\n\n				   \n				   \n				\n				\n						\n\n				\n\n				   \n				   \n				\n				\n			\n							\n\n				\n					\n				\n			\n			\n							\n					\n\n						\n						\n					\n								\n					\n\n						\n						\n					\n								\n					\n\n						\n						\n					\n								\n					\n\n						\n						\n					\n								\n					\n\n						\n						\n					\n								\n					\n\n						\n						\n					\n								\n					\n\n						\n						\n					\n								\n					\n\n						\n						\n					\n								\n					\n\n						\n						\n					\n								\n					\n\n						\n						\n					\n								\n					\n\n						\n						\n					\n								\n					\n\n						\n						\n					\n								\n					\n\n						\n						\n					\n								\n					\n\n						\n						\n					\n								\n					\n\n						\n						\n					\n								\n					\n\n						\n						\n					\n								\n					\n\n						\n						\n					\n								\n					\n\n						\n						\n					\n								\n					\n\n						\n						\n					\n				\n			\n			
URL:https://arazao.org/eventos/63o-aniversario-de-fundacao-da-filial-cantagalo/
END:VEVENT
END:VCALENDAR