BEGIN:VCALENDAR
VERSION:2.0
PRODID:-//A Razão - ECPv4.7.0.1//NONSGML v1.0//EN
CALSCALE:GREGORIAN
METHOD:PUBLISH
X-WR-CALNAME:A Razão
X-ORIGINAL-URL:https://arazao.org
X-WR-CALDESC:Eventos para A Razão
BEGIN:VEVENT
DTSTART;VALUE=DATE:20250601
DTEND;VALUE=DATE:20250602
DTSTAMP:20260421T073220
CREATED:20250527T142122Z
LAST-MODIFIED:20250527T142122Z
UID:17239-1748736000-1748822399@arazao.org
SUMMARY:73º aniversário de fundação da Filial Nova Iguaçu
DESCRIPTION:Você já gastou o seu acesso gratuito do mês. Para continuar por dentro do portal A Razão\, por favor faça o login ou\, se ainda não é um membro\, junte-se a nós! Acesse também nosso conteúdo gratuito:- Leituras do mês- Aconselhamentos
URL:https://arazao.org/eventos/73o-aniversario-de-fundacao-da-filial-nova-iguacu/
CATEGORIES:Aniversário
END:VEVENT
END:VCALENDAR