BEGIN:VCALENDAR
VERSION:2.0
PRODID:-//A Razão - ECPv4.7.0.1//NONSGML v1.0//EN
CALSCALE:GREGORIAN
METHOD:PUBLISH
X-WR-CALNAME:A Razão
X-ORIGINAL-URL:https://arazao.org
X-WR-CALDESC:Eventos para A Razão
BEGIN:VEVENT
DTSTART;VALUE=DATE:20250608
DTEND;VALUE=DATE:20250609
DTSTAMP:20260421T055552
CREATED:20250527T142359Z
LAST-MODIFIED:20250527T142359Z
UID:17243-1749340800-1749427199@arazao.org
SUMMARY:77º aniversário de fundação da Filial Campo Grande
DESCRIPTION:Você já gastou o seu acesso gratuito do mês. Para continuar por dentro do portal A Razão\, por favor faça o login ou\, se ainda não é um membro\, junte-se a nós! Acesse também nosso conteúdo gratuito:- Leituras do mês- Aconselhamentos
URL:https://arazao.org/eventos/77o-aniversario-de-fundacao-da-filial-campo-grande/
CATEGORIES:Aniversário
END:VEVENT
END:VCALENDAR