BEGIN:VCALENDAR
VERSION:2.0
PRODID:-//A Razão - ECPv4.7.0.1//NONSGML v1.0//EN
CALSCALE:GREGORIAN
METHOD:PUBLISH
X-WR-CALNAME:A Razão
X-ORIGINAL-URL:https://arazao.org
X-WR-CALDESC:Eventos para A Razão
BEGIN:VEVENT
DTSTART;VALUE=DATE:20250416
DTEND;VALUE=DATE:20250417
DTSTAMP:20260421T194247
CREATED:20250401T173318Z
LAST-MODIFIED:20250401T173318Z
UID:16968-1744761600-1744847999@arazao.org
SUMMARY:81º aniversário de fundação da Filial Nilópolis
DESCRIPTION:Você já gastou o seu acesso gratuito do mês. Para continuar por dentro do portal A Razão\, por favor faça o login ou\, se ainda não é um membro\, junte-se a nós! Acesse também nosso conteúdo gratuito:- Leituras do mês- Aconselhamentos
URL:https://arazao.org/eventos/81o-aniversario-de-fundacao-da-filial-nilopolis/
CATEGORIES:Aniversário
END:VEVENT
END:VCALENDAR