BEGIN:VCALENDAR
VERSION:2.0
PRODID:-//A Razão - ECPv4.7.0.1//NONSGML v1.0//EN
CALSCALE:GREGORIAN
METHOD:PUBLISH
X-WR-CALNAME:A Razão
X-ORIGINAL-URL:https://arazao.org
X-WR-CALDESC:Eventos para A Razão
BEGIN:VEVENT
DTSTART;VALUE=DATE:20230222
DTEND;VALUE=DATE:20230223
DTSTAMP:20260421T081217
CREATED:20230201T200225Z
LAST-MODIFIED:20230201T200225Z
UID:12927-1677024000-1677110399@arazao.org
SUMMARY:86º aniversário de fundação da Filial Montes Claros
DESCRIPTION:A Filial Montes Claros\, em Minas Gerais\, está comemorando seu 86º aniversário de fundação. \n			\n							\n\n			 			\n\n				\n\n				   \n				   \n				\n				\n						\n\n				\n\n				   \n				   \n				\n				\n						\n\n				\n\n				   \n				   \n				\n				\n						\n\n				\n\n				   \n				   \n				\n				\n						\n\n				\n\n				   \n				   \n				\n				\n						\n\n				\n\n				   \n				   \n				\n				\n			\n							\n\n				\n					\n				\n			\n			\n							\n					\n\n						\n						\n					\n								\n					\n\n						\n						\n					\n								\n					\n\n						\n						\n					\n								\n					\n\n						\n						\n					\n								\n					\n\n						\n						\n					\n								\n					\n\n						\n						\n					\n								\n					\n\n						\n						\n					\n								\n					\n\n						\n						\n					\n								\n					\n\n						\n						\n					\n								\n					\n\n						\n						\n					\n								\n					\n\n						\n						\n					\n								\n					\n\n						\n						\n					\n								\n					\n\n						\n						\n					\n								\n					\n\n						\n						\n					\n								\n					\n\n						\n						\n					\n								\n					\n\n						\n						\n					\n								\n					\n\n						\n						\n					\n								\n					\n\n						\n						\n					\n								\n					\n\n						\n						\n					\n				\n			\n			
URL:https://arazao.org/eventos/86o-aniversario-de-fundacao-da-filial-montes-claros/
END:VEVENT
END:VCALENDAR