BEGIN:VCALENDAR
VERSION:2.0
PRODID:-//A Razão - ECPv4.7.0.1//NONSGML v1.0//EN
CALSCALE:GREGORIAN
METHOD:PUBLISH
X-WR-CALNAME:A Razão
X-ORIGINAL-URL:https://arazao.org
X-WR-CALDESC:Eventos para A Razão
BEGIN:VEVENT
DTSTART;VALUE=DATE:20250901
DTEND;VALUE=DATE:20250902
DTSTAMP:20260420T204740
CREATED:20250904T125040Z
LAST-MODIFIED:20250904T125040Z
UID:17626-1756684800-1756771199@arazao.org
SUMMARY:87º aniversário de fundação da Filial Ribeirão Preto
DESCRIPTION:Você já gastou o seu acesso gratuito do mês. Para continuar por dentro do portal A Razão\, por favor faça o login ou\, se ainda não é um membro\, junte-se a nós! Acesse também nosso conteúdo gratuito:- Leituras do mês- Aconselhamentos
URL:https://arazao.org/eventos/87o-aniversario-de-fundacao-da-filial-ribeirao-preto/
CATEGORIES:Aniversário
END:VEVENT
END:VCALENDAR