BEGIN:VCALENDAR
VERSION:2.0
PRODID:-//A Razão - ECPv4.7.0.1//NONSGML v1.0//EN
CALSCALE:GREGORIAN
METHOD:PUBLISH
X-WR-CALNAME:A Razão
X-ORIGINAL-URL:https://arazao.org
X-WR-CALDESC:Eventos para A Razão
BEGIN:VEVENT
DTSTART;VALUE=DATE:20230302
DTEND;VALUE=DATE:20230303
DTSTAMP:20260421T134808
CREATED:20230308T172954Z
LAST-MODIFIED:20230308T172954Z
UID:13093-1677715200-1677801599@arazao.org
SUMMARY:89º aniversário de fundação da Filial Itaperuna
DESCRIPTION:A Filial Itaperuna\, no Rio de Janeiro\, está comemorando seu 89º aniversário de fundação. \n			\n							\n\n			 			\n\n				\n\n				   \n				   \n				\n				\n						\n\n				\n\n				   \n				   \n				\n				\n						\n\n				\n\n				   \n				   \n				\n				\n						\n\n				\n\n				   \n				   \n				\n				\n						\n\n				\n\n				   \n				   \n				\n				\n						\n\n				\n\n				   \n				   \n				\n				\n			\n							\n\n				\n					\n				\n			\n			\n							\n					\n\n						\n						\n					\n								\n					\n\n						\n						\n					\n								\n					\n\n						\n						\n					\n								\n					\n\n						\n						\n					\n								\n					\n\n						\n						\n					\n								\n					\n\n						\n						\n					\n								\n					\n\n						\n						\n					\n								\n					\n\n						\n						\n					\n								\n					\n\n						\n						\n					\n								\n					\n\n						\n						\n					\n								\n					\n\n						\n						\n					\n								\n					\n\n						\n						\n					\n								\n					\n\n						\n						\n					\n								\n					\n\n						\n						\n					\n								\n					\n\n						\n						\n					\n								\n					\n\n						\n						\n					\n								\n					\n\n						\n						\n					\n								\n					\n\n						\n						\n					\n								\n					\n\n						\n						\n					\n				\n			\n			
URL:https://arazao.org/eventos/89o-aniversario-de-fundacao-da-filial-itaperuna/
END:VEVENT
END:VCALENDAR