BEGIN:VCALENDAR
VERSION:2.0
PRODID:-//A Razão - ECPv4.7.0.1//NONSGML v1.0//EN
CALSCALE:GREGORIAN
METHOD:PUBLISH
X-WR-CALNAME:A Razão
X-ORIGINAL-URL:https://arazao.org
X-WR-CALDESC:Eventos para A Razão
BEGIN:VEVENT
DTSTART;VALUE=DATE:20231006
DTEND;VALUE=DATE:20231007
DTSTAMP:20260421T122944
CREATED:20230927T153705Z
LAST-MODIFIED:20230927T153705Z
UID:14481-1696550400-1696636799@arazao.org
SUMMARY:89º aniversário de fundação da Filial São Gonçalo
DESCRIPTION:A Filial São Gonçalo\, em São Paulo\, está comemorando seu 89º aniversário de fundação. \n			\n							\n\n			 			\n\n				\n\n				   \n				   \n				\n				\n						\n\n				\n\n				   \n				   \n				\n				\n						\n\n				\n\n				   \n				   \n				\n				\n						\n\n				\n\n				   \n				   \n				\n				\n						\n\n				\n\n				   \n				   \n				\n				\n						\n\n				\n\n				   \n				   \n				\n				\n			\n							\n\n				\n					\n				\n			\n			\n							\n					\n\n						\n						\n					\n								\n					\n\n						\n						\n					\n								\n					\n\n						\n						\n					\n								\n					\n\n						\n						\n					\n								\n					\n\n						\n						\n					\n								\n					\n\n						\n						\n					\n								\n					\n\n						\n						\n					\n								\n					\n\n						\n						\n					\n								\n					\n\n						\n						\n					\n								\n					\n\n						\n						\n					\n								\n					\n\n						\n						\n					\n								\n					\n\n						\n						\n					\n								\n					\n\n						\n						\n					\n								\n					\n\n						\n						\n					\n								\n					\n\n						\n						\n					\n								\n					\n\n						\n						\n					\n								\n					\n\n						\n						\n					\n								\n					\n\n						\n						\n					\n								\n					\n\n						\n						\n					\n				\n			\n			
URL:https://arazao.org/eventos/89o-aniversario-de-fundacao-da-filial-sao-goncalo/
END:VEVENT
END:VCALENDAR