BEGIN:VCALENDAR
VERSION:2.0
PRODID:-//A Razão - ECPv4.7.0.1//NONSGML v1.0//EN
CALSCALE:GREGORIAN
METHOD:PUBLISH
X-WR-CALNAME:A Razão
X-ORIGINAL-URL:https://arazao.org
X-WR-CALDESC:Eventos para A Razão
BEGIN:VEVENT
DTSTART;VALUE=DATE:20241118
DTEND;VALUE=DATE:20241119
DTSTAMP:20260420T205816
CREATED:20241101T135337Z
LAST-MODIFIED:20241101T135337Z
UID:16338-1731888000-1731974399@arazao.org
SUMMARY:90º aniversário de fundação da Filial Rio Claro
DESCRIPTION:Você já gastou o seu acesso gratuito do mês. Para continuar por dentro do portal A Razão\, por favor faça o login ou\, se ainda não é um membro\, junte-se a nós! Acesse também nosso conteúdo gratuito:- Leituras do mês- Aconselhamentos
URL:https://arazao.org/eventos/90o-aniversario-de-fundacao-da-filial-rio-claro/
CATEGORIES:Aniversário
END:VEVENT
END:VCALENDAR