BEGIN:VCALENDAR
VERSION:2.0
PRODID:-//A Razão - ECPv4.7.0.1//NONSGML v1.0//EN
CALSCALE:GREGORIAN
METHOD:PUBLISH
X-WR-CALNAME:A Razão
X-ORIGINAL-URL:https://arazao.org
X-WR-CALDESC:Eventos para A Razão
BEGIN:VEVENT
DTSTART;TZID=America/Sao_Paulo:20190823T200000
DTEND;TZID=America/Sao_Paulo:20190824T180000
DTSTAMP:20260419T174506
CREATED:20190723T154319Z
LAST-MODIFIED:20190809T142702Z
UID:7912-1566590400-1566669600@arazao.org
SUMMARY:9º Aniversário de Sede Própria da Filial Lisboa
DESCRIPTION:Você já gastou o seu acesso gratuito do mês. Para continuar por dentro do portal A Razão\, por favor faça o login ou\, se ainda não é um membro\, junte-se a nós! Acesse também nosso conteúdo gratuito:- Leituras do mês- Aconselhamentos
URL:https://arazao.org/eventos/9o-aniversario-de-sede-propria-da-filial-lisboa/
LOCATION:Filial Lisboa\, Praceta Professor Francisco Gentil\, Lote 6-A\, Póvoa de Santo Adrião – Odivelas\, Lisboa\, 2620-096\, Portugal
CATEGORIES:Ciclo de palestras,Reunião pública
ATTACH;FMTTYPE=image/jpeg:https://arazao.org/novo/wp-content/uploads/2019/07/RC_FPNT_Lisboa_v2_20190723.jpg
ORGANIZER;CN="Racionalismo%20Crist%C3%A3o":MAILTO:faleconosco@racionalismocristao.org
END:VEVENT
END:VCALENDAR