BEGIN:VCALENDAR
VERSION:2.0
PRODID:-//A Razão - ECPv4.7.0.1//NONSGML v1.0//EN
CALSCALE:GREGORIAN
METHOD:PUBLISH
X-WR-CALNAME:A Razão
X-ORIGINAL-URL:https://arazao.org
X-WR-CALDESC:Eventos para A Razão
BEGIN:VEVENT
DTSTART;TZID=America/Sao_Paulo:20190921T140000
DTEND;TZID=America/Sao_Paulo:20190921T180000
DTSTAMP:20260420T031809
CREATED:20190814T175407Z
LAST-MODIFIED:20190820T175459Z
UID:8004-1569074400-1569088800@arazao.org
SUMMARY:Bazar da Justa – Vicente de Carvalho (RJ)
DESCRIPTION:Você já gastou o seu acesso gratuito do mês. Para continuar por dentro do portal A Razão\, por favor faça o login ou\, se ainda não é um membro\, junte-se a nós! Acesse também nosso conteúdo gratuito:- Leituras do mês- Aconselhamentos
URL:https://arazao.org/eventos/bazar-da-justa-vicente-de-carvalho-rj-2/
LOCATION:Filial Vicente de Carvalho\, Rua Flamínia\, 191 - Vila da Penha\, Rio de Janeiro\, Rio de Janeiro\, 21221-240\, Brasil
CATEGORIES:Bazar
ATTACH;FMTTYPE=image/jpeg:https://arazao.org/novo/wp-content/uploads/2019/08/RC_FPNT_TELA_Bazardajusta_20190814.jpg
ORGANIZER;CN="Racionalismo%20Crist%C3%A3o":MAILTO:faleconosco@racionalismocristao.org
END:VEVENT
END:VCALENDAR