BEGIN:VCALENDAR
VERSION:2.0
PRODID:-//A Razão - ECPv4.7.0.1//NONSGML v1.0//EN
CALSCALE:GREGORIAN
METHOD:PUBLISH
X-WR-CALNAME:A Razão
X-ORIGINAL-URL:https://arazao.org
X-WR-CALDESC:Eventos para A Razão
BEGIN:VEVENT
DTSTART;TZID=America/Sao_Paulo:20240117T193000
DTEND;TZID=America/Sao_Paulo:20240117T200000
DTSTAMP:20260422T022847
CREATED:20231222T141506Z
LAST-MODIFIED:20231222T141506Z
UID:14910-1705519800-1705521600@arazao.org
SUMMARY:Reunião Pública a Distância
DESCRIPTION:São aulas práticas de espiritualidade\, em que os participantes podem sentir o que é estar espiritualmente fortalecido em ambiente tranquilo e disciplinado\, formado pelos espíritos do Astral Superior que coordenam os trabalhos em campo astral. Durante as reuniões\, as pessoas podem adquirir novos conhecimentos e explicações sobre a vida fora da matéria física\, que vão ajudá-las a refletir sobre como enfrentar os problemas que as afligem. \nA abertura da sala: 19h10\nFechamento da sala: 19h28 \nTransmissão via aplicativo Zoom\nID da reunião: 818 1697 5525\nSenha de acesso: 650112ra \n  \n			\n							\n\n			 			\n\n				\n\n				   \n				   \n				\n				\n						\n\n				\n\n				   \n				   \n				\n				\n						\n\n				\n\n				   \n				   \n				\n				\n						\n\n				\n\n				   \n				   \n				\n				\n						\n\n				\n\n				   \n				   \n				\n				\n						\n\n				\n\n				   \n				   \n				\n				\n			\n							\n\n				\n					\n				\n			\n			\n							\n					\n\n						\n						\n					\n								\n					\n\n						\n						\n					\n								\n					\n\n						\n						\n					\n								\n					\n\n						\n						\n					\n								\n					\n\n						\n						\n					\n								\n					\n\n						\n						\n					\n								\n					\n\n						\n						\n					\n								\n					\n\n						\n						\n					\n								\n					\n\n						\n						\n					\n								\n					\n\n						\n						\n					\n								\n					\n\n						\n						\n					\n								\n					\n\n						\n						\n					\n								\n					\n\n						\n						\n					\n								\n					\n\n						\n						\n					\n								\n					\n\n						\n						\n					\n								\n					\n\n						\n						\n					\n								\n					\n\n						\n						\n					\n								\n					\n\n						\n						\n					\n								\n					\n\n						\n						\n					\n				\n			\n			
URL:https://arazao.org/eventos/reuniao-publica-a-distancia-98/
ORGANIZER;CN="Racionalismo%20Crist%C3%A3o":MAILTO:faleconosco@racionalismocristao.org
END:VEVENT
END:VCALENDAR