BEGIN:VCALENDAR
VERSION:2.0
PRODID:-//A Razão - ECPv4.7.0.1//NONSGML v1.0//EN
CALSCALE:GREGORIAN
METHOD:PUBLISH
X-WR-CALNAME:A Razão
X-ORIGINAL-URL:https://arazao.org
X-WR-CALDESC:Eventos para A Razão
BEGIN:VEVENT
DTSTART;TZID=America/Sao_Paulo:20190826T200000
DTEND;TZID=America/Sao_Paulo:20190826T213000
DTSTAMP:20260419T204953
CREATED:20190809T143214Z
LAST-MODIFIED:20190820T175647Z
UID:8000-1566849600-1566855000@arazao.org
SUMMARY:Reunião pública com a presença de Jorge Fares na Filial Seixal
DESCRIPTION:A reunião pública e limpeza psíquica da Filial Seixal do Racionalismo Cristão do dia 26 de agosto será presidida por Jorge Fares\, presidente da Filial Santos. \nConvidamos a todos! \n			\n							\n\n			 			\n\n				\n\n				   \n				   \n				\n				\n						\n\n				\n\n				   \n				   \n				\n				\n						\n\n				\n\n				   \n				   \n				\n				\n						\n\n				\n\n				   \n				   \n				\n				\n						\n\n				\n\n				   \n				   \n				\n				\n						\n\n				\n\n				   \n				   \n				\n				\n			\n							\n\n				\n					\n				\n			\n			\n							\n					\n\n						\n						\n					\n								\n					\n\n						\n						\n					\n								\n					\n\n						\n						\n					\n								\n					\n\n						\n						\n					\n								\n					\n\n						\n						\n					\n								\n					\n\n						\n						\n					\n								\n					\n\n						\n						\n					\n								\n					\n\n						\n						\n					\n								\n					\n\n						\n						\n					\n								\n					\n\n						\n						\n					\n								\n					\n\n						\n						\n					\n								\n					\n\n						\n						\n					\n								\n					\n\n						\n						\n					\n								\n					\n\n						\n						\n					\n								\n					\n\n						\n						\n					\n								\n					\n\n						\n						\n					\n								\n					\n\n						\n						\n					\n								\n					\n\n						\n						\n					\n								\n					\n\n						\n						\n					\n				\n			\n			
URL:https://arazao.org/eventos/reuniao-publica-com-a-presenca-de-jorge-fares-na-filial-seixal/
LOCATION:Filial Seixal\, Praceta Gomes Leal\, 2\, Seixal\, Portugal
CATEGORIES:Reunião pública
ATTACH;FMTTYPE=image/jpeg:https://arazao.org/novo/wp-content/uploads/2019/08/RC_FPNT_seixal_20190813.jpg
ORGANIZER;CN="Racionalismo%20Crist%C3%A3o":MAILTO:faleconosco@racionalismocristao.org
END:VEVENT
END:VCALENDAR