BEGIN:VCALENDAR
VERSION:2.0
PRODID:-//A Razão - ECPv4.7.0.1//NONSGML v1.0//EN
CALSCALE:GREGORIAN
METHOD:PUBLISH
X-WR-CALNAME:A Razão
X-ORIGINAL-URL:https://arazao.org
X-WR-CALDESC:Eventos para A Razão
BEGIN:VEVENT
DTSTART;TZID=America/Sao_Paulo:20190915T093000
DTEND;TZID=America/Sao_Paulo:20190915T110000
DTSTAMP:20260419T210128
CREATED:20181219T173554Z
LAST-MODIFIED:20190813T181842Z
UID:7198-1568539800-1568545200@arazao.org
SUMMARY:Reunião pública (domingo) – Filial Niterói
DESCRIPTION:As reuniões públicas aos domingos da Filial Niterói ocorrem sempre no terceiro domingo do mês e tem início às 09h30min da manhã\, com o salão liberado ao público a partir das 08h50min. \nConfira as próximas datas: \n20 de outubro \n17 de novembro \n15 de dezembro \n			\n							\n\n			 			\n\n				\n\n				   \n				   \n				\n				\n						\n\n				\n\n				   \n				   \n				\n				\n						\n\n				\n\n				   \n				   \n				\n				\n						\n\n				\n\n				   \n				   \n				\n				\n						\n\n				\n\n				   \n				   \n				\n				\n						\n\n				\n\n				   \n				   \n				\n				\n			\n							\n\n				\n					\n				\n			\n			\n							\n					\n\n						\n						\n					\n								\n					\n\n						\n						\n					\n								\n					\n\n						\n						\n					\n								\n					\n\n						\n						\n					\n								\n					\n\n						\n						\n					\n								\n					\n\n						\n						\n					\n								\n					\n\n						\n						\n					\n								\n					\n\n						\n						\n					\n								\n					\n\n						\n						\n					\n								\n					\n\n						\n						\n					\n								\n					\n\n						\n						\n					\n								\n					\n\n						\n						\n					\n								\n					\n\n						\n						\n					\n								\n					\n\n						\n						\n					\n								\n					\n\n						\n						\n					\n								\n					\n\n						\n						\n					\n								\n					\n\n						\n						\n					\n								\n					\n\n						\n						\n					\n								\n					\n\n						\n						\n					\n				\n			\n			
URL:https://arazao.org/eventos/reuniao-publica-domingo-filial-niteroi-9/
LOCATION:Filial Niterói\, Rua Visconde de Sepetiba\, 468\, Centro\, Niterói - RJ\, Rio De Janeiro\, CEP: 24020-200\, Brasil
CATEGORIES:Reunião pública
ATTACH;FMTTYPE=image/jpeg:https://arazao.org/novo/wp-content/uploads/2018/12/filial-niteroi-e1545147382732.jpg
END:VEVENT
END:VCALENDAR