BEGIN:VCALENDAR
VERSION:2.0
PRODID:-//A Razão - ECPv4.7.0.1//NONSGML v1.0//EN
CALSCALE:GREGORIAN
METHOD:PUBLISH
X-WR-CALNAME:A Razão
X-ORIGINAL-URL:https://arazao.org
X-WR-CALDESC:Eventos para A Razão
BEGIN:VEVENT
DTSTART;TZID=America/Sao_Paulo:20230227T193000
DTEND;TZID=America/Sao_Paulo:20230227T203000
DTSTAMP:20260421T192329
CREATED:20230201T141035Z
LAST-MODIFIED:20230201T141035Z
UID:12915-1677526200-1677529800@arazao.org
SUMMARY:Reunião Pública Presencial
DESCRIPTION:São aulas práticas de espiritualidade\, em que os participantes podem sentir o que é estar espiritualmente fortalecido em ambiente tranquilo e disciplinado\, formado pelos espíritos do Astral Superior que coordenam os trabalhos em campo astral. Durante as reuniões\, as pessoas podem adquirir novos conhecimentos e explicações sobre a vida fora da matéria física\, que vão ajudá-las a refletir sobre como enfrentar os problemas que as afligem. \n			\n							\n\n			 			\n\n				\n\n				   \n				   \n				\n				\n						\n\n				\n\n				   \n				   \n				\n				\n						\n\n				\n\n				   \n				   \n				\n				\n						\n\n				\n\n				   \n				   \n				\n				\n						\n\n				\n\n				   \n				   \n				\n				\n						\n\n				\n\n				   \n				   \n				\n				\n			\n							\n\n				\n					\n				\n			\n			\n							\n					\n\n						\n						\n					\n								\n					\n\n						\n						\n					\n								\n					\n\n						\n						\n					\n								\n					\n\n						\n						\n					\n								\n					\n\n						\n						\n					\n								\n					\n\n						\n						\n					\n								\n					\n\n						\n						\n					\n								\n					\n\n						\n						\n					\n								\n					\n\n						\n						\n					\n								\n					\n\n						\n						\n					\n								\n					\n\n						\n						\n					\n								\n					\n\n						\n						\n					\n								\n					\n\n						\n						\n					\n								\n					\n\n						\n						\n					\n								\n					\n\n						\n						\n					\n								\n					\n\n						\n						\n					\n								\n					\n\n						\n						\n					\n								\n					\n\n						\n						\n					\n								\n					\n\n						\n						\n					\n				\n			\n			
URL:https://arazao.org/eventos/reuniao-publica-presencial-103/
LOCATION:Sede mundial\, Rua Jorge Rudge\, 119 - Vila Isabel\, Rio de Janeiro\, Rio de Janeiro\, 20550-220\, Brasil
CATEGORIES:Reunião pública
ORGANIZER;CN="Racionalismo%20Crist%C3%A3o":MAILTO:faleconosco@racionalismocristao.org
END:VEVENT
END:VCALENDAR